BEGIN:VCALENDAR
VERSION:2.0
PRODID:-//The Health Hub - ECPv6.15.20//NONSGML v1.0//EN
CALSCALE:GREGORIAN
METHOD:PUBLISH
X-WR-CALNAME:The Health Hub
X-ORIGINAL-URL:https://trinityhealthhub.com
X-WR-CALDESC:Events for The Health Hub
REFRESH-INTERVAL;VALUE=DURATION:PT1H
X-Robots-Tag:noindex
X-PUBLISHED-TTL:PT1H
BEGIN:VTIMEZONE
TZID:America/Los_Angeles
BEGIN:DAYLIGHT
TZOFFSETFROM:-0800
TZOFFSETTO:-0700
TZNAME:PDT
DTSTART:20250309T100000
END:DAYLIGHT
BEGIN:STANDARD
TZOFFSETFROM:-0700
TZOFFSETTO:-0800
TZNAME:PST
DTSTART:20251102T090000
END:STANDARD
BEGIN:DAYLIGHT
TZOFFSETFROM:-0800
TZOFFSETTO:-0700
TZNAME:PDT
DTSTART:20260308T100000
END:DAYLIGHT
BEGIN:STANDARD
TZOFFSETFROM:-0700
TZOFFSETTO:-0800
TZNAME:PST
DTSTART:20261101T090000
END:STANDARD
BEGIN:DAYLIGHT
TZOFFSETFROM:-0800
TZOFFSETTO:-0700
TZNAME:PDT
DTSTART:20270314T100000
END:DAYLIGHT
BEGIN:STANDARD
TZOFFSETFROM:-0700
TZOFFSETTO:-0800
TZNAME:PST
DTSTART:20271107T090000
END:STANDARD
END:VTIMEZONE
BEGIN:VEVENT
DTSTART;TZID=America/Los_Angeles:20260723T150000
DTEND;TZID=America/Los_Angeles:20260723T154500
DTSTAMP:20260425T040758
CREATED:20250507T133631Z
LAST-MODIFIED:20250507T133631Z
UID:32970-1784818800-1784821500@trinityhealthhub.com
SUMMARY:Clinical Supervision Meetup with Karen
DESCRIPTION:Every homeopath needs a second point of view from time to time.  Having another set of eyes and a different perspective can help open deeper understanding and new options. Drop in and chat informally with Karen Allen about a case – we all learn from each other as we discuss and explore together. Need a deeper dive for a case where you are stuck?  Submit a request to discuss your client’s case (NOTE: You must be logged in as a subscriber to submit a case.)   (Any case discussion is for your professional clients\, not for yourself or a family member.) By submitting details in advance\, Karen can be prepared with ideas and resources for you.
URL:https://trinityhealthhub.com/event/clinical-supervision-meetup-with-karen-2-2025-08-07/2026-07-23/
LOCATION:Virtual meeting
CATEGORIES:Meet Up
ATTACH;FMTTYPE=image/webp:https://trinityhealthhub.com/wp-content/uploads/2023/01/HUB_Cal_Event_Meetup_CSup.webp
ORGANIZER;CN="Trinity Health Hub":MAILTO:hello@trinityhealthhub.com
END:VEVENT
BEGIN:VEVENT
DTSTART;TZID=America/Los_Angeles:20261101T080000
DTEND;TZID=America/Los_Angeles:20261101T170000
DTSTAMP:20260425T040758
CREATED:20260115T192740Z
LAST-MODIFIED:20260115T192740Z
UID:32020-1793520000-1793552400@trinityhealthhub.com
SUMMARY:Time Change (USA) Clocks Move Backward
DESCRIPTION:Check your clocks – we are moving backward 1 hour!\nFor all of our colleagues\, friends and HUB members in other countries\, check to see if you are also changing time today. You may need to adjust your schedule if your location changes the time on a different date (or not at all!)
URL:https://trinityhealthhub.com/event/time-change-usa-nov2026/
LOCATION:Announcement\, Virtual
CATEGORIES:Announcement
ATTACH;FMTTYPE=image/png:https://trinityhealthhub.com/wp-content/uploads/2023/02/Calendar_Icon_Time_Change_Fall.png
ORGANIZER;CN="Trinity Health Hub":MAILTO:hello@trinityhealthhub.com
END:VEVENT
END:VCALENDAR